BEGIN:VCALENDAR
VERSION:2.0
PRODID:-//ChamberMaster//Event Calendar 2.0//EN
METHOD:PUBLISH
X-PUBLISHED-TTL:P1H
REFRESH-INTERVAL:P1H
CALSCALE:GREGORIAN
BEGIN:VTIMEZONE
TZID:America/New_York
BEGIN:DAYLIGHT
RRULE:FREQ=YEARLY;BYMONTH=3;BYDAY=2SU
DTSTART:20070101T000000
TZOFFSETFROM:-0500
TZOFFSETTO:-0400
TZNAME:Eastern Daylight Time
END:DAYLIGHT
BEGIN:STANDARD
RRULE:FREQ=YEARLY;BYMONTH=11;BYDAY=1SU
DTSTART:20070101T000000
TZOFFSETFROM:-0400
TZOFFSETTO:-0500
TZNAME:Eastern Standard Time
END:STANDARD
END:VTIMEZONE
BEGIN:VEVENT
DTSTART;TZID=America/New_York:20260422T150000
DTEND;TZID=America/New_York:20260422T160000
X-MICROSOFT-CDO-ALLDAYEVENT:FALSE
SUMMARY:How Listening Transforms Patient & Family Experiences
DESCRIPTION:How can tough conversations become productive patient and family experiences?Committing our attention and consciously listening can be difficult\, especially when patients and families bring more concerns than time seems to allow. This webinar will present practical\, real-world strategies staff and volunteers can employ to help patients and families prioritize needs\, make informed choices\, and feel genuinely heard. KEY WEBINAR TAKEAWAYSListening techniques that demonstrate empathyNavigating "They are so wrong" moments   how to tactfully guide patients and families while demonstrating respectCoaching patients and families via shared decision makingFour steps for exiting visits or phone calls graciously and without abrupt endings or endless tangents BONUS MATERIALSCoaching template for better decision makingLearning guide WEBINAR DETAILSLet's face it: listening is not always easy\, especially when patients and family members have a list of concerns longer than a lunch break. However\, effective listening transforms interactions\, improves outcomes\, and makes each day smoother. In this webinar\, we will explore practical strategies that help patients and families prioritize their needs\, make better choices\, and feel genuinely heard. Participants will learn how to listen without judgment\, what to do when a patient is wrong\, and how to graciously wrap up conversations while preserving trust. THIS WEBINAR WILL BENEFIT THE FOLLOWING AGENCIES:HospiceHome CareHome HealthPalliative Care WHO SHOULD ATTEND?Leaders responsible for supporting team members in interpersonal skill developmentTeam members who provide services or direct patient care and/or family supportStaff development professionalsLeaders who want team members to demonstrate the values of their organization TAKE-AWAY TOOLKITEmployee training logInteractive quizPDF of slides and speaker's contact info for follow-up questionsAttendance certificate provided to self-report CE credits\nNOTE: All materials are subject to copyright. Transmission\, retransmission\, or republishing of any webinar to other institutions or those not employed by your institution is prohibited. Print materials may be copied for eligible participants only.Presented BySusan Keane Baker
X-ALT-DESC;FMTTYPE=text/html:<!DOCTYPE html><html><head><title></title></head><body aria-disabled="false"><p><strong fr-original-style="" style="font-weight: 700\;">How can tough conversations become productive patient and family experiences?</strong></p><p><strong fr-original-style="" style="font-weight: 700\;">Committing our attention and consciously listening can be difficult\, especially when patients and families bring more concerns than time seems to allow. This webinar will present practical\, real-world strategies staff and volunteers can employ to help patients and families prioritize needs\, make informed choices\, and feel genuinely heard.</strong></p><p><strong fr-original-style="" style="font-weight: 700\;">&nbsp\;</strong></p><p><strong fr-original-style="" style="font-weight: 700\;">KEY WEBINAR TAKEAWAYS</strong></p><ul fr-original-style="margin-top:0in\;" style="margin-top: 0in\; list-style-position: inside\;" type="disc"><li style="mso-list:l3 level1 lfo1\;tab-stops:list .5in\;"><strong fr-original-style="" style="font-weight: 700\;">Listening techniques that demonstrate empathy</strong></li><li style="mso-list:l3 level1 lfo1\;tab-stops:list .5in\;"><strong fr-original-style="" style="font-weight: 700\;">Navigating &ldquo\;They are so wrong&rdquo\; moments &ndash\; how to tactfully guide patients and families while demonstrating respect</strong></li><li style="mso-list:l3 level1 lfo1\;tab-stops:list .5in\;"><strong fr-original-style="" style="font-weight: 700\;">Coaching patients and families via shared decision making</strong></li><li style="mso-list:l3 level1 lfo1\;tab-stops:list .5in\;"><strong fr-original-style="" style="font-weight: 700\;">Four steps for exiting visits or phone calls graciously and without abrupt endings or endless tangents</strong></li></ul><p><strong fr-original-style="" style="font-weight: 700\;">&nbsp\;</strong></p><p><strong fr-original-style="" style="font-weight: 700\;">BONUS MATERIALS</strong></p><ul fr-original-style="margin-top:0in\;" style="margin-top: 0in\; list-style-position: inside\;" type="disc"><li style="mso-list:l0 level1 lfo2\;tab-stops:list .5in\;"><strong fr-original-style="" style="font-weight: 700\;">Coaching template for better decision making</strong></li><li style="mso-list:l0 level1 lfo2\;tab-stops:list .5in\;"><strong fr-original-style="" style="font-weight: 700\;">Learning guide</strong></li></ul><p><strong fr-original-style="" style="font-weight: 700\;">&nbsp\;</strong></p><p><strong fr-original-style="" style="font-weight: 700\;">WEBINAR DETAILS</strong></p><p><strong fr-original-style="" style="font-weight: 700\;">Let&rsquo\;s face it: listening is not always easy\, especially when patients and family members have a list of concerns longer than a lunch break. However\, effective listening transforms interactions\, improves outcomes\, and makes each day smoother.</strong><strong fr-original-style="" style="font-weight: 700\;"> In this webinar\, we will explore practical strategies that help patients and families prioritize their needs\, make better choices\, and feel genuinely heard. Participants will learn how to listen without judgment\, what to do when a patient is wrong\, and how to graciously wrap up conversations while preserving trust.</strong></p><p><strong fr-original-style="" style="font-weight: 700\;">&nbsp\;</strong></p><p><strong fr-original-style="" style="font-weight: 700\;">THIS WEBINAR WILL BENEFIT THE FOLLOWING AGENCIES:</strong></p><ul fr-original-style="margin-top:0in\;" style="margin-top: 0in\; list-style-position: inside\;" type="disc"><li style="mso-list:l2 level1 lfo3\;tab-stops:list .5in\;"><strong fr-original-style="" style="font-weight: 700\;">Hospice</strong></li><li style="mso-list:l2 level1 lfo3\;tab-stops:list .5in\;"><strong fr-original-style="" style="font-weight: 700\;">Home Care</strong></li><li style="mso-list:l2 level1 lfo3\;tab-stops:list .5in\;"><strong fr-original-style="" style="font-weight: 700\;">Home Health</strong></li><li style="mso-list:l2 level1 lfo3\;tab-stops:list .5in\;"><strong fr-original-style="" style="font-weight: 700\;">Palliative Care</strong></li></ul><p><strong fr-original-style="" style="font-weight: 700\;">&nbsp\;</strong></p><p><strong fr-original-style="" style="font-weight: 700\;">WHO SHOULD ATTEND?</strong></p><ul fr-original-style="margin-top:0in\;" style="margin-top: 0in\; list-style-position: inside\;" type="disc"><li style="mso-list:l1 level1 lfo4\;tab-stops:list .5in\;"><strong fr-original-style="" style="font-weight: 700\;">Leaders responsible for supporting team members in interpersonal skill development</strong></li><li style="mso-list:l1 level1 lfo4\;tab-stops:list .5in\;"><strong fr-original-style="" style="font-weight: 700\;">Team members who provide services or direct patient care and/or family support</strong></li><li style="mso-list:l1 level1 lfo4\;tab-stops:list .5in\;"><strong fr-original-style="" style="font-weight: 700\;">Staff development professionals</strong></li><li style="mso-list:l1 level1 lfo4\;tab-stops:list .5in\;"><strong fr-original-style="" style="font-weight: 700\;">Leaders who want team members to demonstrate the values of their organization</strong></li></ul><p><strong fr-original-style="" style="font-weight: 700\;">&nbsp\;</strong></p><p><strong fr-original-style="" style="font-weight: 700\;">TAKE-AWAY TOOLKIT</strong></p><ul fr-original-style="margin-top:0in\;" style="margin-top: 0in\; list-style-position: inside\;" type="disc"><li style="mso-list:l4 level1 lfo5\;tab-stops:list .5in\;"><strong fr-original-style="" style="font-weight: 700\;">Employee training log</strong></li><li style="mso-list:l4 level1 lfo5\;tab-stops:list .5in\;"><strong fr-original-style="" style="font-weight: 700\;">Interactive quiz</strong></li><li style="mso-list:l4 level1 lfo5\;tab-stops:list .5in\;"><strong fr-original-style="" style="font-weight: 700\;">PDF of slides and speaker&rsquo\;s contact info for follow-up questions</strong></li><li style="mso-list:l4 level1 lfo5\;tab-stops:list .5in\;"><strong fr-original-style="" style="font-weight: 700\;">Attendance certificate provided to self-report CE credits</strong></li></ul><p><strong fr-original-style="" style="font-weight: 700\;"><br>NOTE: All materials are subject to copyright. Transmission\, retransmission\, or republishing of any webinar to other institutions or those not employed by your institution is prohibited. Print materials may be copied for eligible participants only.</strong></p><p><strong fr-original-style="" style="font-weight: 700\;">Presented By</strong></p><p><a href="https://hospice.eewebinarnetwork.com/susan-keane-baker" fr-original-style="" style="user-select: auto\;"></a><b style="mso-bidi-font-weight:normal\;"><strong fr-original-style="" style="font-weight: 700\;"><a fr-original-style="" href="https://hospice.eewebinarnetwork.com/susan-keane-baker" style="user-select: auto\;">Susan Keane Baker</a></strong></b></p><p><b style="mso-bidi-font-weight:normal\;">&nbsp\;</b></p></body></html>
LOCATION:
UID:e.4140.1322089
SEQUENCE:3
DTSTAMP:20260422T082711Z
URL:https://members.mhha.org/events/Details/how-listening-transforms-patient-family-experiences-1550641?sourceTypeId=Hub
END:VEVENT
END:VCALENDAR
